BEGIN:VCALENDAR
VERSION:2.0
PRODID:icalendar-ruby
CALSCALE:GREGORIAN
METHOD:PUBLISH
BEGIN:VEVENT
DTSTAMP:20260421T110952Z
UID:173-4954825@hillsideairdrie.ca
DTSTART:20260913T164500Z
DTEND:20260913T181500Z
CLASS:PUBLIC
CREATED:20260421T042640
DESCRIPTION:Join us every Sunday morning as we come together to worship Jes
 us and build meaningful connections within our community.\nAt Hillside Chu
 rch\, we're all about pointing you in the direction of Jesus Christ. Our S
 unday gatherings are a vibrant celebration of worship\, where we connect w
 ith Jesus Christ and with one another. We explore the Bible in an engaging
 \, insightful\, and relevant manner\, making it a source of inspiration an
 d guidance for our lives.\nCome be a part of our welcoming community and e
 xperience the joy of worshiping together while deepening your spiritual un
 derstanding.\nWe look forward to sharing this journey with you!
LAST-MODIFIED:20260421T042640
LOCATION:209\, 2903 Kingsview Blvd\, Airdrie
SUMMARY:Worship Live
URL;VALUE=URI:https://hillsideairdrie.ca/events/worship-live/2026-09-13
ATTACH;FILENAME=1.png;FMTTYPE=image/png:https://dq5pwpg1q8ru0.cloudfront.ne
 t/2023/09/20/12/57/26/62fd5c67-9008-45be-a7a9-bc4633d83854/1.png
END:VEVENT
END:VCALENDAR
